BEGIN:VCALENDAR
VERSION:2.0
PRODID:-//Scandal Sitges - ECPv6.15.17.1//NONSGML v1.0//EN
CALSCALE:GREGORIAN
METHOD:PUBLISH
X-ORIGINAL-URL:https://scandalsitges.com
X-WR-CALDESC:Events for Scandal Sitges
REFRESH-INTERVAL;VALUE=DURATION:PT1H
X-Robots-Tag:noindex
X-PUBLISHED-TTL:PT1H
BEGIN:VTIMEZONE
TZID:UTC
BEGIN:STANDARD
TZOFFSETFROM:+0000
TZOFFSETTO:+0000
TZNAME:UTC
DTSTART:20230101T000000
END:STANDARD
END:VTIMEZONE
BEGIN:VEVENT
DTSTART;TZID=UTC:20240829T020000
DTEND;TZID=UTC:20240829T060000
DTSTAMP:20260423T011254
CREATED:20240717T140653Z
LAST-MODIFIED:20240822T235550Z
UID:10000010-1724896800-1724911200@scandalsitges.com
SUMMARY:Thursdays - La Presumida
DESCRIPTION:Todos los jueves\nBaila toda la noche el jueves\nReggaetón\, Dembow\, Latin Tech\, Top Hits\nEntrada 15 EUR\nDe 01.00 a 06.00\nReserva una mesa VIP – + 34 682 351 600\nEntrada libre antes de las 2 am. (excepto festivos y eventos especiales).
URL:https://scandalsitges.com/event/thursday-la-presumida/
LOCATION:Barcelona
CATEGORIES:Party
ATTACH;FMTTYPE=image/jpeg:https://scandalsitges.com/wp-content/uploads/2024/07/La-Presumida-Thursdays.jpg
END:VEVENT
END:VCALENDAR