BEGIN:VCALENDAR
VERSION:2.0
PRODID:-//Scandal Sitges - ECPv6.15.17.1//NONSGML v1.0//EN
CALSCALE:GREGORIAN
METHOD:PUBLISH
X-WR-CALNAME:Scandal Sitges
X-ORIGINAL-URL:https://scandalsitges.com
X-WR-CALDESC:Events for Scandal Sitges
REFRESH-INTERVAL;VALUE=DURATION:PT1H
X-Robots-Tag:noindex
X-PUBLISHED-TTL:PT1H
BEGIN:VTIMEZONE
TZID:UTC
BEGIN:STANDARD
TZOFFSETFROM:+0000
TZOFFSETTO:+0000
TZNAME:UTC
DTSTART:20240101T000000
END:STANDARD
END:VTIMEZONE
BEGIN:VEVENT
DTSTART;VALUE=DATE:20250605
DTEND;VALUE=DATE:20250610
DTSTAMP:20260421T105024
CREATED:20250520T090908Z
LAST-MODIFIED:20250520T090908Z
UID:10000037-1749081600-1749513599@scandalsitges.com
SUMMARY:Wed June 4 - Sun June 8 - Sitges Pride - 5 Day Superpass
DESCRIPTION:Sitges Pride Superpass – 5 days – SAVE!\n\nAccess to all parties\nWed PINK\nThur AQUA\nFri NEON\nSat BEACH\nSun JUNGLE\n+ 5 drinks (1 per night)\n+ Rapid Access\nLimited Sales! Sells fast.
URL:https://scandalsitges.com/event/wed-june-4-sun-june-8-sitges-pride-5-day-superpass/
LOCATION:BEARS DISCO (Scandal)\, Calle Bonaire\, 15\, Sitges\, Barcelona\, 08870\, Spain
CATEGORIES:Cinderella
ATTACH;FMTTYPE=image/jpeg:https://scandalsitges.com/wp-content/uploads/2025/05/Sitges-Pride-Superpass.jpg
END:VEVENT
BEGIN:VEVENT
DTSTART;TZID=UTC:20250605T010000
DTEND;TZID=UTC:20250605T060000
DTSTAMP:20260421T105024
CREATED:20250520T073312Z
LAST-MODIFIED:20250520T074619Z
UID:10000032-1749085200-1749103200@scandalsitges.com
SUMMARY:Wed June 4 - PINK - Opening Party
DESCRIPTION:PINK PARTY – Wednesday 4th June \n\nStart Pride week dipped in pink and attitude.\nBring your wildest pink look—or just yourself.\nIt’s the opening party\, so book early and skip the wait.\nFirst 100 Tickets – EUR 12!
URL:https://scandalsitges.com/event/wed-june-4-pink-opening-party/
LOCATION:BEARS DISCO (Scandal)\, Calle Bonaire\, 15\, Sitges\, Barcelona\, 08870\, Spain
CATEGORIES:Cinderella
ATTACH;FMTTYPE=image/jpeg:https://scandalsitges.com/wp-content/uploads/2025/05/Pink-Party-Wednesday-Sitges-Pride-2025.jpg
END:VEVENT
END:VCALENDAR